﻿BEGIN:VCALENDAR
VERSION:2.0
PRODID:-//Department of Administration - ECPv5.3.2.1//NONSGML v1.0//EN
CALSCALE:GREGORIAN
METHOD:PUBLISH
X-WR-CALNAME:Department of Administration
X-ORIGINAL-URL:https://adm.idaho.gov
X-WR-CALDESC:Events for Department of Administration
BEGIN:VTIMEZONE
TZID:America/Boise
BEGIN:DAYLIGHT
TZOFFSETFROM:-0700
TZOFFSETTO:-0600
TZNAME:MDT
DTSTART:20190310T090000
END:DAYLIGHT
BEGIN:STANDARD
TZOFFSETFROM:-0600
TZOFFSETTO:-0700
TZNAME:MST
DTSTART:20191103T080000
END:STANDARD
END:VTIMEZONE
BEGIN:VEVENT
DTSTART;VALUE=DATE:20190527
DTEND;VALUE=DATE:20190528
DTSTAMP:20210604T203105
CREATED:20190322T202545Z
LAST-MODIFIED:20200214T223804Z
UID:695-1558915200-1559001599@adm.idaho.gov
SUMMARY:Memorial Day
DESCRIPTION:
URL:https://adm.idaho.gov/event/memorial-day/2019-05-27/
LOCATION:ID\, United States
CATEGORIES:State Holiday
END:VEVENT
END:VCALENDAR