﻿BEGIN:VCALENDAR
VERSION:2.0
PRODID:-//Department of Administration - ECPv5.3.2.1//NONSGML v1.0//EN
CALSCALE:GREGORIAN
METHOD:PUBLISH
X-WR-CALNAME:Department of Administration
X-ORIGINAL-URL:https://adm.idaho.gov
X-WR-CALDESC:Events for Department of Administration
BEGIN:VTIMEZONE
TZID:America/Boise
BEGIN:DAYLIGHT
TZOFFSETFROM:-0700
TZOFFSETTO:-0600
TZNAME:MDT
DTSTART:20220313T090000
END:DAYLIGHT
BEGIN:STANDARD
TZOFFSETFROM:-0600
TZOFFSETTO:-0700
TZNAME:MST
DTSTART:20221106T080000
END:STANDARD
END:VTIMEZONE
BEGIN:VEVENT
DTSTART;VALUE=DATE:20221017
DTEND;VALUE=DATE:20221018
DTSTAMP:20210617T112118
CREATED:20190322T202710Z
LAST-MODIFIED:20190322T202710Z
UID:1266-1665964800-1666051199@adm.idaho.gov
SUMMARY:Columbus Day
DESCRIPTION:
URL:https://adm.idaho.gov/event/columbus-day/2022-10-17/
LOCATION:ID\, United States
CATEGORIES:State Holiday
END:VEVENT
END:VCALENDAR